Package: CGHcall Version: 2.69.0 Command: /home/biocbuild/bbs-3.21-bioc/R/bin/R CMD INSTALL CGHcall StartedAt: 2025-02-09 15:14:39 -0500 (Sun, 09 Feb 2025) EndedAt: 2025-02-09 15:14:44 -0500 (Sun, 09 Feb 2025) EllapsedTime: 4.7 seconds RetCode: 0 Status: OK