Package: CGHcall Version: 2.69.0 Command: E:\biocbuild\bbs-3.21-bioc\R\bin\R.exe CMD check --no-multiarch --install=check:CGHcall.install-out.txt --library=E:\biocbuild\bbs-3.21-bioc\R\library --no-vignettes --timings CGHcall_2.69.0.tar.gz StartedAt: 2025-02-09 23:32:54 -0500 (Sun, 09 Feb 2025) EndedAt: 2025-02-09 23:33:44 -0500 (Sun, 09 Feb 2025) EllapsedTime: 49.6 seconds RetCode: 0 Status: WARNINGS CheckDir: CGHcall.Rcheck Warnings: 1