Package: CGHnormaliter Version: 1.61.0 Command: /home/biocbuild/R/R/bin/R CMD build --keep-empty-dirs --no-resave-data CGHnormaliter StartedAt: 2025-01-28 21:44:59 -0000 (Tue, 28 Jan 2025) EndedAt: 2025-01-28 21:46:11 -0000 (Tue, 28 Jan 2025) EllapsedTime: 72.0 seconds RetCode: 0 Status: OK PackageFile: CGHnormaliter_1.61.0.tar.gz PackageFileSize: 1.246 MiB