Package: CGHnormaliter Version: 1.61.0 Command: /home/biocbuild/bbs-3.21-bioc/R/bin/R CMD build --keep-empty-dirs --no-resave-data CGHnormaliter StartedAt: 2025-02-12 16:33:17 -0500 (Wed, 12 Feb 2025) EndedAt: 2025-02-12 16:34:08 -0500 (Wed, 12 Feb 2025) EllapsedTime: 51.1 seconds RetCode: 0 Status: OK PackageFile: CGHnormaliter_1.61.0.tar.gz PackageFileSize: 1.245 MiB