Package: CGHnormaliter Version: 1.61.0 Command: rm -rf CGHnormaliter.buildbin-libdir && mkdir CGHnormaliter.buildbin-libdir && E:\biocbuild\bbs-3.21-bioc\R\bin\R.exe CMD INSTALL --build --library=CGHnormaliter.buildbin-libdir CGHnormaliter_1.61.0.tar.gz StartedAt: 2025-02-10 07:25:23 -0500 (Mon, 10 Feb 2025) EndedAt: 2025-02-10 07:25:42 -0500 (Mon, 10 Feb 2025) EllapsedTime: 19.0 seconds RetCode: 0 Status: OK PackageFile: CGHnormaliter_1.61.0.zip PackageFileSize: 1.145 MiB