Package: CGHnormaliter Version: 1.61.0 Command: chmod a+r CGHnormaliter -R && E:\biocbuild\bbs-3.21-bioc\R\bin\R.exe CMD build --keep-empty-dirs --no-resave-data CGHnormaliter StartedAt: 2025-02-09 17:47:15 -0500 (Sun, 09 Feb 2025) EndedAt: 2025-02-09 17:48:31 -0500 (Sun, 09 Feb 2025) EllapsedTime: 75.4 seconds RetCode: 0 Status: OK PackageFile: CGHnormaliter_1.61.0.tar.gz PackageFileSize: 1.127 MiB