Package: CGHregions Version: 1.65.0 Command: rm -rf CGHregions.buildbin-libdir && mkdir CGHregions.buildbin-libdir && /Users/biocbuild/BBS/utils/build-universal.sh CGHregions_1.65.0.tar.gz /Library/Frameworks/R.framework/Resources/bin/R CGHregions.buildbin-libdir StartedAt: 2025-02-09 22:09:00 -0500 (Sun, 09 Feb 2025) EndedAt: 2025-02-09 22:09:04 -0500 (Sun, 09 Feb 2025) EllapsedTime: 3.1 seconds RetCode: 0 Status: OK PackageFile: CGHregions_1.65.0.tgz PackageFileSize: 245.4 KiB