Package: CGHregions Version: 1.65.0 Command: /home/biocbuild/R/R/bin/R CMD check --install=check:CGHregions.install-out.txt --library=/home/biocbuild/R/R/site-library --no-vignettes --timings CGHregions_1.65.0.tar.gz StartedAt: 2025-01-28 09:05:30 -0000 (Tue, 28 Jan 2025) EndedAt: 2025-01-28 09:06:08 -0000 (Tue, 28 Jan 2025) EllapsedTime: 38.0 seconds RetCode: 0 Status: OK CheckDir: CGHregions.Rcheck Warnings: 0