Package: CGHregions Version: 1.65.0 Command: rm -rf CGHregions.buildbin-libdir && mkdir CGHregions.buildbin-libdir && /Users/biocbuild/BBS/utils/build-universal.sh CGHregions_1.65.0.tar.gz /Library/Frameworks/R.framework/Resources/bin/R CGHregions.buildbin-libdir StartedAt: 2025-02-13 00:29:27 -0500 (Thu, 13 Feb 2025) EndedAt: 2025-02-13 00:29:35 -0500 (Thu, 13 Feb 2025) EllapsedTime: 8.2 seconds RetCode: 0 Status: OK PackageFile: CGHregions_1.65.0.tgz PackageFileSize: 244.5 KiB