Package: CGHregions Version: 1.65.0 Command: /Library/Frameworks/R.framework/Resources/bin/R CMD check --install=check:CGHregions.install-out.txt --library=/Library/Frameworks/R.framework/Resources/library --no-vignettes --timings CGHregions_1.65.0.tar.gz StartedAt: 2025-02-09 19:42:01 -0500 (Sun, 09 Feb 2025) EndedAt: 2025-02-09 19:42:48 -0500 (Sun, 09 Feb 2025) EllapsedTime: 47.4 seconds RetCode: 0 Status: OK CheckDir: CGHregions.Rcheck Warnings: 0