Package: CIMICE Version: 1.15.0 Command: /Library/Frameworks/R.framework/Resources/bin/R CMD build --keep-empty-dirs --no-resave-data CIMICE StartedAt: 2025-02-12 15:54:15 -0500 (Wed, 12 Feb 2025) EndedAt: 2025-02-12 15:54:26 -0500 (Wed, 12 Feb 2025) EllapsedTime: 11.1 seconds RetCode: 0 Status: OK PackageFile: CIMICE_1.15.0.tar.gz PackageFileSize: 1.547 MiB