Package: CIMICE Version: 1.15.0 Command: /Library/Frameworks/R.framework/Resources/bin/R CMD INSTALL CIMICE StartedAt: 2025-02-09 15:21:19 -0500 (Sun, 09 Feb 2025) EndedAt: 2025-02-09 15:21:23 -0500 (Sun, 09 Feb 2025) EllapsedTime: 3.5 seconds RetCode: 0 Status: OK