Package: CIMICE Version: 1.15.0 Command: /home/biocbuild/R/R/bin/R CMD build --keep-empty-dirs --no-resave-data CIMICE StartedAt: 2025-01-28 21:51:16 -0000 (Tue, 28 Jan 2025) EndedAt: 2025-01-28 21:51:52 -0000 (Tue, 28 Jan 2025) EllapsedTime: 36.0 seconds RetCode: 0 Status: OK PackageFile: CIMICE_1.15.0.tar.gz PackageFileSize: 1.544 MiB