Package: CIMICE Version: 1.15.0 Command: rm -rf CIMICE.buildbin-libdir && mkdir CIMICE.buildbin-libdir && /Users/biocbuild/BBS/utils/build-universal.sh CIMICE_1.15.0.tar.gz /Library/Frameworks/R.framework/Resources/bin/R CIMICE.buildbin-libdir StartedAt: 2025-02-13 00:30:00 -0500 (Thu, 13 Feb 2025) EndedAt: 2025-02-13 00:30:14 -0500 (Thu, 13 Feb 2025) EllapsedTime: 13.9 seconds RetCode: 0 Status: OK PackageFile: CIMICE_1.15.0.tgz PackageFileSize: 1.267 MiB