Package: CIMICE Version: 1.15.0 Command: /home/biocbuild/bbs-3.21-bioc/R/bin/R CMD INSTALL CIMICE StartedAt: 2025-02-09 15:13:57 -0500 (Sun, 09 Feb 2025) EndedAt: 2025-02-09 15:14:05 -0500 (Sun, 09 Feb 2025) EllapsedTime: 7.9 seconds RetCode: 0 Status: OK