Package: CIMICE Version: 1.15.0 Command: rm -rf CIMICE.buildbin-libdir && mkdir CIMICE.buildbin-libdir && E:\biocbuild\bbs-3.21-bioc\R\bin\R.exe CMD INSTALL --build --library=CIMICE.buildbin-libdir CIMICE_1.15.0.tar.gz StartedAt: 2025-02-13 07:38:22 -0500 (Thu, 13 Feb 2025) EndedAt: 2025-02-13 07:38:54 -0500 (Thu, 13 Feb 2025) EllapsedTime: 31.4 seconds RetCode: 0 Status: OK PackageFile: CIMICE_1.15.0.zip PackageFileSize: 1.017 MiB