Package: CIMICE Version: 1.15.0 Command: chmod a+r CIMICE -R && E:\biocbuild\bbs-3.21-bioc\R\bin\R.exe CMD build --keep-empty-dirs --no-resave-data CIMICE StartedAt: 2025-02-09 17:51:25 -0500 (Sun, 09 Feb 2025) EndedAt: 2025-02-09 17:52:29 -0500 (Sun, 09 Feb 2025) EllapsedTime: 63.6 seconds RetCode: 0 Status: OK PackageFile: CIMICE_1.15.0.tar.gz PackageFileSize: 1.302 MiB