Package: CIMICE Version: 1.15.0 Command: E:\biocbuild\bbs-3.21-bioc\R\bin\R.exe CMD check --no-multiarch --install=check:CIMICE.install-out.txt --library=E:\biocbuild\bbs-3.21-bioc\R\library --no-vignettes --timings CIMICE_1.15.0.tar.gz StartedAt: 2025-02-09 23:37:54 -0500 (Sun, 09 Feb 2025) EndedAt: 2025-02-09 23:39:32 -0500 (Sun, 09 Feb 2025) EllapsedTime: 98.7 seconds RetCode: 0 Status: OK CheckDir: CIMICE.Rcheck Warnings: 0