Package: CIMICE Version: 1.15.0 Command: E:\biocbuild\bbs-3.21-bioc\R\bin\R.exe CMD INSTALL CIMICE StartedAt: 2025-02-12 15:59:25 -0500 (Wed, 12 Feb 2025) EndedAt: 2025-02-12 16:00:10 -0500 (Wed, 12 Feb 2025) EllapsedTime: 44.4 seconds RetCode: 0 Status: OK