Package: CINdex Version: 1.35.0 Command: /home/biocbuild/R/R/bin/R CMD INSTALL CINdex StartedAt: 2025-01-29 19:40:50 -0000 (Wed, 29 Jan 2025) EndedAt: 2025-01-29 19:41:23 -0000 (Wed, 29 Jan 2025) EllapsedTime: 32.7 seconds RetCode: 0 Status: OK