Package: CINdex Version: 1.35.0 Command: /home/biocbuild/bbs-3.21-bioc/R/bin/R CMD check --install=check:CINdex.install-out.txt --library=/home/biocbuild/bbs-3.21-bioc/R/site-library --timings CINdex_1.35.0.tar.gz StartedAt: 2025-01-21 20:49:49 -0500 (Tue, 21 Jan 2025) EndedAt: 2025-01-21 20:55:49 -0500 (Tue, 21 Jan 2025) EllapsedTime: 359.5 seconds RetCode: 0 Status: WARNINGS CheckDir: CINdex.Rcheck Warnings: 1