Package: CMA Version: 1.65.0 Command: /Library/Frameworks/R.framework/Resources/bin/R CMD build --keep-empty-dirs --no-resave-data CMA StartedAt: 2025-02-09 15:55:50 -0500 (Sun, 09 Feb 2025) EndedAt: 2025-02-09 15:56:02 -0500 (Sun, 09 Feb 2025) EllapsedTime: 12.1 seconds RetCode: 0 Status: OK PackageFile: CMA_1.65.0.tar.gz PackageFileSize: 1.21 MiB