Package: CMA Version: 1.65.0 Command: /Library/Frameworks/R.framework/Resources/bin/R CMD check --install=check:CMA.install-out.txt --library=/Library/Frameworks/R.framework/Resources/library --no-vignettes --timings CMA_1.65.0.tar.gz StartedAt: 2025-02-09 19:49:28 -0500 (Sun, 09 Feb 2025) EndedAt: 2025-02-09 19:50:37 -0500 (Sun, 09 Feb 2025) EllapsedTime: 69.9 seconds RetCode: 0 Status: OK CheckDir: CMA.Rcheck Warnings: 0