Package: CMA Version: 1.65.0 Command: /Library/Frameworks/R.framework/Resources/bin/R CMD INSTALL CMA StartedAt: 2025-02-12 15:05:11 -0500 (Wed, 12 Feb 2025) EndedAt: 2025-02-12 15:05:45 -0500 (Wed, 12 Feb 2025) EllapsedTime: 34.2 seconds RetCode: 0 Status: OK