Package: CMA Version: 1.65.0 Command: chmod a+r CMA -R && E:\biocbuild\bbs-3.21-bioc\R\bin\R.exe CMD build --keep-empty-dirs --no-resave-data CMA StartedAt: 2025-02-09 17:55:53 -0500 (Sun, 09 Feb 2025) EndedAt: 2025-02-09 17:57:06 -0500 (Sun, 09 Feb 2025) EllapsedTime: 72.8 seconds RetCode: 0 Status: OK PackageFile: CMA_1.65.0.tar.gz PackageFileSize: 1.033 MiB