Package: CNAnorm Version: 1.53.0 Command: /Library/Frameworks/R.framework/Resources/bin/R CMD build --keep-empty-dirs --no-resave-data CNAnorm StartedAt: 2025-02-12 15:56:30 -0500 (Wed, 12 Feb 2025) EndedAt: 2025-02-12 15:56:40 -0500 (Wed, 12 Feb 2025) EllapsedTime: 9.1 seconds RetCode: 0 Status: OK PackageFile: CNAnorm_1.53.0.tar.gz PackageFileSize: 1.521 MiB