Package: CNAnorm Version: 1.53.0 Command: /Library/Frameworks/R.framework/Resources/bin/R CMD check --install=check:CNAnorm.install-out.txt --library=/Library/Frameworks/R.framework/Resources/library --no-vignettes --timings CNAnorm_1.53.0.tar.gz StartedAt: 2025-02-09 18:35:20 -0500 (Sun, 09 Feb 2025) EndedAt: 2025-02-09 18:35:40 -0500 (Sun, 09 Feb 2025) EllapsedTime: 20.3 seconds RetCode: 0 Status: OK CheckDir: CNAnorm.Rcheck Warnings: 0