Package: CNAnorm Version: 1.53.0 Command: /home/biocbuild/R/R/bin/R CMD build --keep-empty-dirs --no-resave-data CNAnorm StartedAt: 2025-01-28 21:58:13 -0000 (Tue, 28 Jan 2025) EndedAt: 2025-01-28 21:58:34 -0000 (Tue, 28 Jan 2025) EllapsedTime: 21.0 seconds RetCode: 0 Status: OK PackageFile: CNAnorm_1.53.0.tar.gz PackageFileSize: 1.504 MiB