Package: CNAnorm Version: 1.53.0 Command: /home/biocbuild/R/R/bin/R CMD check --install=check:CNAnorm.install-out.txt --library=/home/biocbuild/R/R/site-library --no-vignettes --timings CNAnorm_1.53.0.tar.gz StartedAt: 2025-01-28 09:18:25 -0000 (Tue, 28 Jan 2025) EndedAt: 2025-01-28 09:19:18 -0000 (Tue, 28 Jan 2025) EllapsedTime: 53.0 seconds RetCode: 0 Status: OK CheckDir: CNAnorm.Rcheck Warnings: 0