Package: CNAnorm Version: 1.53.0 Command: /Library/Frameworks/R.framework/Resources/bin/R CMD build --keep-empty-dirs --no-resave-data CNAnorm StartedAt: 2025-02-09 16:19:29 -0500 (Sun, 09 Feb 2025) EndedAt: 2025-02-09 16:19:57 -0500 (Sun, 09 Feb 2025) EllapsedTime: 27.4 seconds RetCode: 0 Status: OK PackageFile: CNAnorm_1.53.0.tar.gz PackageFileSize: 1.521 MiB