Package: CNEr Version: 1.43.0 Command: /Library/Frameworks/R.framework/Resources/bin/R CMD check --install=check:CNEr.install-out.txt --library=/Library/Frameworks/R.framework/Resources/library --no-vignettes --timings CNEr_1.43.0.tar.gz StartedAt: 2025-02-03 19:12:08 -0500 (Mon, 03 Feb 2025) EndedAt: 2025-02-03 19:15:53 -0500 (Mon, 03 Feb 2025) EllapsedTime: 224.8 seconds RetCode: 1 Status: ERROR CheckDir: CNEr.Rcheck Warnings: NA