Package: CNEr Version: 1.43.0 Command: /home/biocbuild/R/R/bin/R CMD build --keep-empty-dirs --no-resave-data CNEr StartedAt: 2025-01-28 21:58:34 -0000 (Tue, 28 Jan 2025) EndedAt: 2025-01-28 22:01:07 -0000 (Tue, 28 Jan 2025) EllapsedTime: 153.1 seconds RetCode: 0 Status: OK PackageFile: CNEr_1.43.0.tar.gz PackageFileSize: 9.349 MiB