Package: CNEr Version: 1.43.0 Command: rm -rf CNEr.buildbin-libdir && mkdir CNEr.buildbin-libdir && /Users/biocbuild/BBS/utils/build-universal.sh CNEr_1.43.0.tar.gz /Library/Frameworks/R.framework/Resources/bin/R CNEr.buildbin-libdir StartedAt: 2025-02-04 00:28:01 -0500 (Tue, 04 Feb 2025) EndedAt: 2025-02-04 00:29:19 -0500 (Tue, 04 Feb 2025) EllapsedTime: 77.5 seconds RetCode: 0 Status: OK PackageFile: CNEr_1.43.0.tgz PackageFileSize: 10.5 MiB