Package: CNEr Version: 1.43.0 Command: /Library/Frameworks/R.framework/Resources/bin/R CMD build --keep-empty-dirs --no-resave-data CNEr StartedAt: 2025-02-03 16:21:33 -0500 (Mon, 03 Feb 2025) EndedAt: 2025-02-03 16:23:34 -0500 (Mon, 03 Feb 2025) EllapsedTime: 121.1 seconds RetCode: 0 Status: OK PackageFile: CNEr_1.43.0.tar.gz PackageFileSize: 9.599 MiB