Package: CNEr Version: 1.43.0 Command: /Library/Frameworks/R.framework/Resources/bin/R CMD check --install=check:CNEr.install-out.txt --library=/Library/Frameworks/R.framework/Resources/library --no-vignettes --timings CNEr_1.43.0.tar.gz StartedAt: 2025-02-09 19:50:37 -0500 (Sun, 09 Feb 2025) EndedAt: 2025-02-09 20:01:18 -0500 (Sun, 09 Feb 2025) EllapsedTime: 640.4 seconds RetCode: 0 Status: WARNINGS CheckDir: CNEr.Rcheck Warnings: 2