Package: CNEr Version: 1.43.0 Command: /Library/Frameworks/R.framework/Resources/bin/R CMD INSTALL CNEr StartedAt: 2025-02-03 15:22:13 -0500 (Mon, 03 Feb 2025) EndedAt: 2025-02-03 15:23:23 -0500 (Mon, 03 Feb 2025) EllapsedTime: 70.1 seconds RetCode: 0 Status: OK