Package: CNEr Version: 1.43.0 Command: /home/biocbuild/bbs-3.21-bioc/R/bin/R CMD build --keep-empty-dirs --no-resave-data CNEr StartedAt: 2025-02-09 16:42:28 -0500 (Sun, 09 Feb 2025) EndedAt: 2025-02-09 16:44:16 -0500 (Sun, 09 Feb 2025) EllapsedTime: 108.1 seconds RetCode: 0 Status: OK PackageFile: CNEr_1.43.0.tar.gz PackageFileSize: 9.581 MiB