Package: CNEr Version: 1.43.0 Command: /home/biocbuild/bbs-3.21-bioc/R/bin/R CMD check --install=check:CNEr.install-out.txt --library=/home/biocbuild/bbs-3.21-bioc/R/site-library --timings CNEr_1.43.0.tar.gz StartedAt: 2025-02-03 21:12:17 -0500 (Mon, 03 Feb 2025) EndedAt: 2025-02-03 21:23:21 -0500 (Mon, 03 Feb 2025) EllapsedTime: 663.9 seconds RetCode: 0 Status: WARNINGS CheckDir: CNEr.Rcheck Warnings: 2