############################################################################## ############################################################################## ### ### Running command: ### ### /home/biocbuild/bbs-3.21-bioc/R/bin/R CMD INSTALL CNEr ### ############################################################################## ############################################################################## * installing to library ‘/home/biocbuild/bbs-3.21-bioc/R/site-library’ * installing *source* package ‘CNEr’ ... ** this is package ‘CNEr’ version ‘1.43.0’ ** using staged installation ** libs using C compiler: ‘gcc (Ubuntu 13.3.0-6ubuntu2~24.04) 13.3.0’ gcc -I"/home/biocbuild/bbs-3.21-bioc/R/include" -DNDEBUG -D_FILE_OFFSET_BITS=64 -I'/home/biocbuild/bbs-3.21-bioc/R/site-library/S4Vectors/include' -I'/home/biocbuild/bbs-3.21-bioc/R/site-library/IRanges/include' -I'/home/biocbuild/bbs-3.21-bioc/R/site-library/XVector/include' -I/usr/local/include -g -fpic -g -O2 -c S4Vectors_stubs.c -o S4Vectors_stubs.o gcc -I"/home/biocbuild/bbs-3.21-bioc/R/include" -DNDEBUG -D_FILE_OFFSET_BITS=64 -I'/home/biocbuild/bbs-3.21-bioc/R/site-library/S4Vectors/include' -I'/home/biocbuild/bbs-3.21-bioc/R/site-library/IRanges/include' -I'/home/biocbuild/bbs-3.21-bioc/R/site-library/XVector/include' -I/usr/local/include -g -fpic -g -O2 -c IRanges_stubs.c -o IRanges_stubs.o gcc -I"/home/biocbuild/bbs-3.21-bioc/R/include" -DNDEBUG -D_FILE_OFFSET_BITS=64 -I'/home/biocbuild/bbs-3.21-bioc/R/site-library/S4Vectors/include' -I'/home/biocbuild/bbs-3.21-bioc/R/site-library/IRanges/include' -I'/home/biocbuild/bbs-3.21-bioc/R/site-library/XVector/include' -I/usr/local/include -g -fpic -g -O2 -c XVector_stubs.c -o XVector_stubs.o gcc -I"/home/biocbuild/bbs-3.21-bioc/R/include" -DNDEBUG -D_FILE_OFFSET_BITS=64 -I'/home/biocbuild/bbs-3.21-bioc/R/site-library/S4Vectors/include' -I'/home/biocbuild/bbs-3.21-bioc/R/site-library/IRanges/include' -I'/home/biocbuild/bbs-3.21-bioc/R/site-library/XVector/include' -I/usr/local/include -g -fpic -g -O2 -c R_init_CNEr.c -o R_init_CNEr.o gcc -I"/home/biocbuild/bbs-3.21-bioc/R/include" -DNDEBUG -D_FILE_OFFSET_BITS=64 -I'/home/biocbuild/bbs-3.21-bioc/R/site-library/S4Vectors/include' -I'/home/biocbuild/bbs-3.21-bioc/R/site-library/IRanges/include' -I'/home/biocbuild/bbs-3.21-bioc/R/site-library/XVector/include' -I/usr/local/include -g -fpic -g -O2 -c utils.c -o utils.o gcc -I"/home/biocbuild/bbs-3.21-bioc/R/include" -DNDEBUG -D_FILE_OFFSET_BITS=64 -I'/home/biocbuild/bbs-3.21-bioc/R/site-library/S4Vectors/include' -I'/home/biocbuild/bbs-3.21-bioc/R/site-library/IRanges/include' -I'/home/biocbuild/bbs-3.21-bioc/R/site-library/XVector/include' -I/usr/local/include -g -fpic -g -O2 -c io.c -o io.o gcc -I"/home/biocbuild/bbs-3.21-bioc/R/include" -DNDEBUG -D_FILE_OFFSET_BITS=64 -I'/home/biocbuild/bbs-3.21-bioc/R/site-library/S4Vectors/include' -I'/home/biocbuild/bbs-3.21-bioc/R/site-library/IRanges/include' -I'/home/biocbuild/bbs-3.21-bioc/R/site-library/XVector/include' -I/usr/local/include -g -fpic -g -O2 -c ceScan.c -o ceScan.o gcc -I"/home/biocbuild/bbs-3.21-bioc/R/include" -DNDEBUG -D_FILE_OFFSET_BITS=64 -I'/home/biocbuild/bbs-3.21-bioc/R/site-library/S4Vectors/include' -I'/home/biocbuild/bbs-3.21-bioc/R/site-library/IRanges/include' -I'/home/biocbuild/bbs-3.21-bioc/R/site-library/XVector/include' -I/usr/local/include -g -fpic -g -O2 -c ucsc/axt.c -o ucsc/axt.o gcc -I"/home/biocbuild/bbs-3.21-bioc/R/include" -DNDEBUG -D_FILE_OFFSET_BITS=64 -I'/home/biocbuild/bbs-3.21-bioc/R/site-library/S4Vectors/include' -I'/home/biocbuild/bbs-3.21-bioc/R/site-library/IRanges/include' -I'/home/biocbuild/bbs-3.21-bioc/R/site-library/XVector/include' -I/usr/local/include -g -fpic -g -O2 -c ucsc/base64.c -o ucsc/base64.o gcc -I"/home/biocbuild/bbs-3.21-bioc/R/include" -DNDEBUG -D_FILE_OFFSET_BITS=64 -I'/home/biocbuild/bbs-3.21-bioc/R/site-library/S4Vectors/include' -I'/home/biocbuild/bbs-3.21-bioc/R/site-library/IRanges/include' -I'/home/biocbuild/bbs-3.21-bioc/R/site-library/XVector/include' -I/usr/local/include -g -fpic -g -O2 -c ucsc/binRange.c -o ucsc/binRange.o gcc -I"/home/biocbuild/bbs-3.21-bioc/R/include" -DNDEBUG -D_FILE_OFFSET_BITS=64 -I'/home/biocbuild/bbs-3.21-bioc/R/site-library/S4Vectors/include' -I'/home/biocbuild/bbs-3.21-bioc/R/site-library/IRanges/include' -I'/home/biocbuild/bbs-3.21-bioc/R/site-library/XVector/include' -I/usr/local/include -g -fpic -g -O2 -c ucsc/bits.c -o ucsc/bits.o gcc -I"/home/biocbuild/bbs-3.21-bioc/R/include" -DNDEBUG -D_FILE_OFFSET_BITS=64 -I'/home/biocbuild/bbs-3.21-bioc/R/site-library/S4Vectors/include' -I'/home/biocbuild/bbs-3.21-bioc/R/site-library/IRanges/include' -I'/home/biocbuild/bbs-3.21-bioc/R/site-library/XVector/include' -I/usr/local/include -g -fpic -g -O2 -c ucsc/chain.c -o ucsc/chain.o gcc -I"/home/biocbuild/bbs-3.21-bioc/R/include" -DNDEBUG -D_FILE_OFFSET_BITS=64 -I'/home/biocbuild/bbs-3.21-bioc/R/site-library/S4Vectors/include' -I'/home/biocbuild/bbs-3.21-bioc/R/site-library/IRanges/include' -I'/home/biocbuild/bbs-3.21-bioc/R/site-library/XVector/include' -I/usr/local/include -g -fpic -g -O2 -c ucsc/_cheapcgi.c -o ucsc/_cheapcgi.o gcc -I"/home/biocbuild/bbs-3.21-bioc/R/include" -DNDEBUG -D_FILE_OFFSET_BITS=64 -I'/home/biocbuild/bbs-3.21-bioc/R/site-library/S4Vectors/include' -I'/home/biocbuild/bbs-3.21-bioc/R/site-library/IRanges/include' -I'/home/biocbuild/bbs-3.21-bioc/R/site-library/XVector/include' -I/usr/local/include -g -fpic -g -O2 -c ucsc/cirTree.c -o ucsc/cirTree.o gcc -I"/home/biocbuild/bbs-3.21-bioc/R/include" -DNDEBUG -D_FILE_OFFSET_BITS=64 -I'/home/biocbuild/bbs-3.21-bioc/R/site-library/S4Vectors/include' -I'/home/biocbuild/bbs-3.21-bioc/R/site-library/IRanges/include' -I'/home/biocbuild/bbs-3.21-bioc/R/site-library/XVector/include' -I/usr/local/include -g -fpic -g -O2 -c ucsc/common.c -o ucsc/common.o gcc -I"/home/biocbuild/bbs-3.21-bioc/R/include" -DNDEBUG -D_FILE_OFFSET_BITS=64 -I'/home/biocbuild/bbs-3.21-bioc/R/site-library/S4Vectors/include' -I'/home/biocbuild/bbs-3.21-bioc/R/site-library/IRanges/include' -I'/home/biocbuild/bbs-3.21-bioc/R/site-library/XVector/include' -I/usr/local/include -g -fpic -g -O2 -c ucsc/dlist.c -o ucsc/dlist.o gcc -I"/home/biocbuild/bbs-3.21-bioc/R/include" -DNDEBUG -D_FILE_OFFSET_BITS=64 -I'/home/biocbuild/bbs-3.21-bioc/R/site-library/S4Vectors/include' -I'/home/biocbuild/bbs-3.21-bioc/R/site-library/IRanges/include' -I'/home/biocbuild/bbs-3.21-bioc/R/site-library/XVector/include' -I/usr/local/include -g -fpic -g -O2 -c ucsc/dnaseq.c -o ucsc/dnaseq.o gcc -I"/home/biocbuild/bbs-3.21-bioc/R/include" -DNDEBUG -D_FILE_OFFSET_BITS=64 -I'/home/biocbuild/bbs-3.21-bioc/R/site-library/S4Vectors/include' -I'/home/biocbuild/bbs-3.21-bioc/R/site-library/IRanges/include' -I'/home/biocbuild/bbs-3.21-bioc/R/site-library/XVector/include' -I/usr/local/include -g -fpic -g -O2 -c ucsc/dnautil.c -o ucsc/dnautil.o gcc -I"/home/biocbuild/bbs-3.21-bioc/R/include" -DNDEBUG -D_FILE_OFFSET_BITS=64 -I'/home/biocbuild/bbs-3.21-bioc/R/site-library/S4Vectors/include' -I'/home/biocbuild/bbs-3.21-bioc/R/site-library/IRanges/include' -I'/home/biocbuild/bbs-3.21-bioc/R/site-library/XVector/include' -I/usr/local/include -g -fpic -g -O2 -c ucsc/dystring.c -o ucsc/dystring.o gcc -I"/home/biocbuild/bbs-3.21-bioc/R/include" -DNDEBUG -D_FILE_OFFSET_BITS=64 -I'/home/biocbuild/bbs-3.21-bioc/R/site-library/S4Vectors/include' -I'/home/biocbuild/bbs-3.21-bioc/R/site-library/IRanges/include' -I'/home/biocbuild/bbs-3.21-bioc/R/site-library/XVector/include' -I/usr/local/include -g -fpic -g -O2 -c ucsc/errabort.c -o ucsc/errabort.o gcc -I"/home/biocbuild/bbs-3.21-bioc/R/include" -DNDEBUG -D_FILE_OFFSET_BITS=64 -I'/home/biocbuild/bbs-3.21-bioc/R/site-library/S4Vectors/include' -I'/home/biocbuild/bbs-3.21-bioc/R/site-library/IRanges/include' -I'/home/biocbuild/bbs-3.21-bioc/R/site-library/XVector/include' -I/usr/local/include -g -fpic -g -O2 -c ucsc/hash.c -o ucsc/hash.o gcc -I"/home/biocbuild/bbs-3.21-bioc/R/include" -DNDEBUG -D_FILE_OFFSET_BITS=64 -I'/home/biocbuild/bbs-3.21-bioc/R/site-library/S4Vectors/include' -I'/home/biocbuild/bbs-3.21-bioc/R/site-library/IRanges/include' -I'/home/biocbuild/bbs-3.21-bioc/R/site-library/XVector/include' -I/usr/local/include -g -fpic -g -O2 -c ucsc/https.c -o ucsc/https.o gcc -I"/home/biocbuild/bbs-3.21-bioc/R/include" -DNDEBUG -D_FILE_OFFSET_BITS=64 -I'/home/biocbuild/bbs-3.21-bioc/R/site-library/S4Vectors/include' -I'/home/biocbuild/bbs-3.21-bioc/R/site-library/IRanges/include' -I'/home/biocbuild/bbs-3.21-bioc/R/site-library/XVector/include' -I/usr/local/include -g -fpic -g -O2 -c ucsc/intExp.c -o ucsc/intExp.o gcc -I"/home/biocbuild/bbs-3.21-bioc/R/include" -DNDEBUG -D_FILE_OFFSET_BITS=64 -I'/home/biocbuild/bbs-3.21-bioc/R/site-library/S4Vectors/include' -I'/home/biocbuild/bbs-3.21-bioc/R/site-library/IRanges/include' -I'/home/biocbuild/bbs-3.21-bioc/R/site-library/XVector/include' -I/usr/local/include -g -fpic -g -O2 -c ucsc/kxTok.c -o ucsc/kxTok.o gcc -I"/home/biocbuild/bbs-3.21-bioc/R/include" -DNDEBUG -D_FILE_OFFSET_BITS=64 -I'/home/biocbuild/bbs-3.21-bioc/R/site-library/S4Vectors/include' -I'/home/biocbuild/bbs-3.21-bioc/R/site-library/IRanges/include' -I'/home/biocbuild/bbs-3.21-bioc/R/site-library/XVector/include' -I/usr/local/include -g -fpic -g -O2 -c ucsc/linefile.c -o ucsc/linefile.o gcc -I"/home/biocbuild/bbs-3.21-bioc/R/include" -DNDEBUG -D_FILE_OFFSET_BITS=64 -I'/home/biocbuild/bbs-3.21-bioc/R/site-library/S4Vectors/include' -I'/home/biocbuild/bbs-3.21-bioc/R/site-library/IRanges/include' -I'/home/biocbuild/bbs-3.21-bioc/R/site-library/XVector/include' -I/usr/local/include -g -fpic -g -O2 -c ucsc/localmem.c -o ucsc/localmem.o gcc -I"/home/biocbuild/bbs-3.21-bioc/R/include" -DNDEBUG -D_FILE_OFFSET_BITS=64 -I'/home/biocbuild/bbs-3.21-bioc/R/site-library/S4Vectors/include' -I'/home/biocbuild/bbs-3.21-bioc/R/site-library/IRanges/include' -I'/home/biocbuild/bbs-3.21-bioc/R/site-library/XVector/include' -I/usr/local/include -g -fpic -g -O2 -c ucsc/memalloc.c -o ucsc/memalloc.o gcc -I"/home/biocbuild/bbs-3.21-bioc/R/include" -DNDEBUG -D_FILE_OFFSET_BITS=64 -I'/home/biocbuild/bbs-3.21-bioc/R/site-library/S4Vectors/include' -I'/home/biocbuild/bbs-3.21-bioc/R/site-library/IRanges/include' -I'/home/biocbuild/bbs-3.21-bioc/R/site-library/XVector/include' -I/usr/local/include -g -fpic -g -O2 -c ucsc/obscure.c -o ucsc/obscure.o gcc -I"/home/biocbuild/bbs-3.21-bioc/R/include" -DNDEBUG -D_FILE_OFFSET_BITS=64 -I'/home/biocbuild/bbs-3.21-bioc/R/site-library/S4Vectors/include' -I'/home/biocbuild/bbs-3.21-bioc/R/site-library/IRanges/include' -I'/home/biocbuild/bbs-3.21-bioc/R/site-library/XVector/include' -I/usr/local/include -g -fpic -g -O2 -c ucsc/options.c -o ucsc/options.o gcc -I"/home/biocbuild/bbs-3.21-bioc/R/include" -DNDEBUG -D_FILE_OFFSET_BITS=64 -I'/home/biocbuild/bbs-3.21-bioc/R/site-library/S4Vectors/include' -I'/home/biocbuild/bbs-3.21-bioc/R/site-library/IRanges/include' -I'/home/biocbuild/bbs-3.21-bioc/R/site-library/XVector/include' -I/usr/local/include -g -fpic -g -O2 -c ucsc/pipeline.c -o ucsc/pipeline.o gcc -I"/home/biocbuild/bbs-3.21-bioc/R/include" -DNDEBUG -D_FILE_OFFSET_BITS=64 -I'/home/biocbuild/bbs-3.21-bioc/R/site-library/S4Vectors/include' -I'/home/biocbuild/bbs-3.21-bioc/R/site-library/IRanges/include' -I'/home/biocbuild/bbs-3.21-bioc/R/site-library/XVector/include' -I/usr/local/include -g -fpic -g -O2 -c ucsc/_portimpl.c -o ucsc/_portimpl.o gcc -I"/home/biocbuild/bbs-3.21-bioc/R/include" -DNDEBUG -D_FILE_OFFSET_BITS=64 -I'/home/biocbuild/bbs-3.21-bioc/R/site-library/S4Vectors/include' -I'/home/biocbuild/bbs-3.21-bioc/R/site-library/IRanges/include' -I'/home/biocbuild/bbs-3.21-bioc/R/site-library/XVector/include' -I/usr/local/include -g -fpic -g -O2 -c ucsc/sqlList.c -o ucsc/sqlList.o gcc -I"/home/biocbuild/bbs-3.21-bioc/R/include" -DNDEBUG -D_FILE_OFFSET_BITS=64 -I'/home/biocbuild/bbs-3.21-bioc/R/site-library/S4Vectors/include' -I'/home/biocbuild/bbs-3.21-bioc/R/site-library/IRanges/include' -I'/home/biocbuild/bbs-3.21-bioc/R/site-library/XVector/include' -I/usr/local/include -g -fpic -g -O2 -c ucsc/sqlNum.c -o ucsc/sqlNum.o gcc -I"/home/biocbuild/bbs-3.21-bioc/R/include" -DNDEBUG -D_FILE_OFFSET_BITS=64 -I'/home/biocbuild/bbs-3.21-bioc/R/site-library/S4Vectors/include' -I'/home/biocbuild/bbs-3.21-bioc/R/site-library/IRanges/include' -I'/home/biocbuild/bbs-3.21-bioc/R/site-library/XVector/include' -I/usr/local/include -g -fpic -g -O2 -c ucsc/verbose.c -o ucsc/verbose.o gcc -I"/home/biocbuild/bbs-3.21-bioc/R/include" -DNDEBUG -D_FILE_OFFSET_BITS=64 -I'/home/biocbuild/bbs-3.21-bioc/R/site-library/S4Vectors/include' -I'/home/biocbuild/bbs-3.21-bioc/R/site-library/IRanges/include' -I'/home/biocbuild/bbs-3.21-bioc/R/site-library/XVector/include' -I/usr/local/include -g -fpic -g -O2 -c ucsc/os.c -o ucsc/os.o gcc -I"/home/biocbuild/bbs-3.21-bioc/R/include" -DNDEBUG -D_FILE_OFFSET_BITS=64 -I'/home/biocbuild/bbs-3.21-bioc/R/site-library/S4Vectors/include' -I'/home/biocbuild/bbs-3.21-bioc/R/site-library/IRanges/include' -I'/home/biocbuild/bbs-3.21-bioc/R/site-library/XVector/include' -I/usr/local/include -g -fpic -g -O2 -c ucsc/wildcmp.c -o ucsc/wildcmp.o gcc -shared -L/home/biocbuild/bbs-3.21-bioc/R/lib -L/usr/local/lib -o CNEr.so S4Vectors_stubs.o IRanges_stubs.o XVector_stubs.o R_init_CNEr.o utils.o io.o ceScan.o ucsc/axt.o ucsc/base64.o ucsc/binRange.o ucsc/bits.o ucsc/chain.o ucsc/_cheapcgi.o ucsc/cirTree.o ucsc/common.o ucsc/dlist.o ucsc/dnaseq.o ucsc/dnautil.o ucsc/dystring.o ucsc/errabort.o ucsc/hash.o ucsc/https.o ucsc/intExp.o ucsc/kxTok.o ucsc/linefile.o ucsc/localmem.o ucsc/memalloc.o ucsc/obscure.o ucsc/options.o ucsc/pipeline.o ucsc/_portimpl.o ucsc/sqlList.o ucsc/sqlNum.o ucsc/verbose.o ucsc/os.o ucsc/wildcmp.o -lz -L/home/biocbuild/bbs-3.21-bioc/R/lib -lR installing to /home/biocbuild/bbs-3.21-bioc/R/site-library/00LOCK-CNEr/00new/CNEr/libs ** R ** data ** inst ** byte-compile and prepare package for lazy loading ** help *** installing help indices ** building package indices ** installing vignettes ** testing if installed package can be loaded from temporary location ** checking absolute paths in shared objects and dynamic libraries ** testing if installed package can be loaded from final location ** testing if installed package keeps a record of temporary installation path * DONE (CNEr)