Package: CNEr Version: 1.43.0 Command: /home/biocbuild/bbs-3.21-bioc/R/bin/R CMD INSTALL CNEr StartedAt: 2025-02-09 15:50:02 -0500 (Sun, 09 Feb 2025) EndedAt: 2025-02-09 15:50:56 -0500 (Sun, 09 Feb 2025) EllapsedTime: 53.4 seconds RetCode: 0 Status: OK