Package: CNEr Version: 1.43.0 Command: rm -rf CNEr.buildbin-libdir && mkdir CNEr.buildbin-libdir && E:\biocbuild\bbs-3.21-bioc\R\bin\R.exe CMD INSTALL --build --library=CNEr.buildbin-libdir CNEr_1.43.0.tar.gz StartedAt: 2025-02-10 07:29:19 -0500 (Mon, 10 Feb 2025) EndedAt: 2025-02-10 07:31:31 -0500 (Mon, 10 Feb 2025) EllapsedTime: 131.5 seconds RetCode: 0 Status: OK PackageFile: CNEr_1.43.0.zip PackageFileSize: 10.08 MiB