Package: CNEr Version: 1.43.0 Command: chmod a+r CNEr -R && E:\biocbuild\bbs-3.21-bioc\R\bin\R.exe CMD build --keep-empty-dirs --no-resave-data CNEr StartedAt: 2025-02-09 17:56:30 -0500 (Sun, 09 Feb 2025) EndedAt: 2025-02-09 17:59:47 -0500 (Sun, 09 Feb 2025) EllapsedTime: 196.6 seconds RetCode: 0 Status: OK PackageFile: CNEr_1.43.0.tar.gz PackageFileSize: 9.282 MiB