Package: CNEr Version: 1.43.0 Command: E:\biocbuild\bbs-3.21-bioc\R\bin\R.exe CMD check --no-multiarch --install=check:CNEr.install-out.txt --library=E:\biocbuild\bbs-3.21-bioc\R\library --no-vignettes --timings CNEr_1.43.0.tar.gz StartedAt: 2025-02-09 23:46:29 -0500 (Sun, 09 Feb 2025) EndedAt: 2025-02-09 23:58:04 -0500 (Sun, 09 Feb 2025) EllapsedTime: 695.4 seconds RetCode: 0 Status: WARNINGS CheckDir: CNEr.Rcheck Warnings: 2