Package: CNORdt Version: 1.49.0 Command: /Library/Frameworks/R.framework/Resources/bin/R CMD build --keep-empty-dirs --no-resave-data CNORdt StartedAt: 2025-02-09 15:56:04 -0500 (Sun, 09 Feb 2025) EndedAt: 2025-02-09 15:56:26 -0500 (Sun, 09 Feb 2025) EllapsedTime: 22.3 seconds RetCode: 0 Status: OK PackageFile: CNORdt_1.49.0.tar.gz PackageFileSize: 319.4 KiB