Package: CNORdt Version: 1.49.0 Command: /Library/Frameworks/R.framework/Resources/bin/R CMD check --install=check:CNORdt.install-out.txt --library=/Library/Frameworks/R.framework/Resources/library --no-vignettes --timings CNORdt_1.49.0.tar.gz StartedAt: 2025-02-09 18:35:26 -0500 (Sun, 09 Feb 2025) EndedAt: 2025-02-09 18:36:20 -0500 (Sun, 09 Feb 2025) EllapsedTime: 53.8 seconds RetCode: 0 Status: OK CheckDir: CNORdt.Rcheck Warnings: 0