Package: CNORdt Version: 1.49.0 Command: /Library/Frameworks/R.framework/Resources/bin/R CMD build --keep-empty-dirs --no-resave-data CNORdt StartedAt: 2025-02-12 16:17:17 -0500 (Wed, 12 Feb 2025) EndedAt: 2025-02-12 16:18:08 -0500 (Wed, 12 Feb 2025) EllapsedTime: 50.3 seconds RetCode: 0 Status: OK PackageFile: CNORdt_1.49.0.tar.gz PackageFileSize: 319.1 KiB