Package: CNORdt Version: 1.49.0 Command: /home/biocbuild/bbs-3.21-bioc/R/bin/R CMD build --keep-empty-dirs --no-resave-data CNORdt StartedAt: 2025-02-09 16:42:29 -0500 (Sun, 09 Feb 2025) EndedAt: 2025-02-09 16:43:12 -0500 (Sun, 09 Feb 2025) EllapsedTime: 43.1 seconds RetCode: 0 Status: OK PackageFile: CNORdt_1.49.0.tar.gz PackageFileSize: 319.4 KiB