Package: CNORdt Version: 1.49.0 Command: /home/biocbuild/bbs-3.21-bioc/R/bin/R CMD INSTALL CNORdt StartedAt: 2025-02-09 15:16:26 -0500 (Sun, 09 Feb 2025) EndedAt: 2025-02-09 15:16:33 -0500 (Sun, 09 Feb 2025) EllapsedTime: 7.1 seconds RetCode: 0 Status: OK