Package: CNORdt Version: 1.49.0 Command: E:\biocbuild\bbs-3.21-bioc\R\bin\R.exe CMD INSTALL CNORdt StartedAt: 2025-02-12 15:49:38 -0500 (Wed, 12 Feb 2025) EndedAt: 2025-02-12 15:49:52 -0500 (Wed, 12 Feb 2025) EllapsedTime: 14.5 seconds RetCode: 0 Status: OK