Package: CNORfeeder Version: 1.47.0 Command: /Library/Frameworks/R.framework/Resources/bin/R CMD build --keep-empty-dirs --no-resave-data CNORfeeder StartedAt: 2025-02-09 15:56:07 -0500 (Sun, 09 Feb 2025) EndedAt: 2025-02-09 15:56:14 -0500 (Sun, 09 Feb 2025) EllapsedTime: 7.1 seconds RetCode: 0 Status: OK PackageFile: CNORfeeder_1.47.0.tar.gz PackageFileSize: 3.435 MiB